BEGIN:VCALENDAR
VERSION:2.0
PRODID:-//ChamberMaster//Event Calendar 2.0//EN
METHOD:PUBLISH
X-PUBLISHED-TTL:P3D
REFRESH-INTERVAL:P3D
CALSCALE:GREGORIAN
BEGIN:VEVENT
DTSTART:20171202T200000Z
DTEND:20171202T230000Z
X-MICROSOFT-CDO-ALLDAYEVENT:FALSE
SUMMARY:2nd Annual Christmas Children's Market
DESCRIPTION:This "Market" is for the elementary age children of Elkhorn to have the joy of buying Christmas presents for their family at a resonable cost. Crafted items will be available for purchase from price ranges of $0.50 to $3.00. There will be a wrapping station so they can wrap their presents (with help_ before going home! Enjoy some Christmas Spirit watching their excitement in buying presents for their own family!
X-ALT-DESC;FMTTYPE=text/html:This &quot\;Market&quot\; is for the elementary age children of Elkhorn to have the joy of buying Christmas presents for their family at a resonable cost. Crafted items will be available for purchase from price ranges of $0.50 to $3.00. There will be a wrapping station so they can wrap their presents (with help_ before going home! Enjoy some Christmas Spirit watching their excitement in buying presents for their own family!
LOCATION:Friends on the Square Upstairs 41 N. Wisconsin Street Elkhorn\, WI
UID:e.2059.7340
SEQUENCE:3
DTSTAMP:20260422T165231Z
URL:https://business.elkhornchamber.com/events/details/2nd-annual-christmas-children-s-market-7340
END:VEVENT

END:VCALENDAR
