BEGIN:VCALENDAR
VERSION:2.0
PRODID:-//ChamberMaster//Event Calendar 2.0//EN
METHOD:PUBLISH
X-PUBLISHED-TTL:P3D
REFRESH-INTERVAL:P3D
CALSCALE:GREGORIAN
BEGIN:VEVENT
DTSTART:20180909T130000Z
DTEND:20180909T130000Z
X-MICROSOFT-CDO-ALLDAYEVENT:FALSE
SUMMARY:2nd Annual Car Show Fiddle Sticks Bistro
DESCRIPTION:Bring your Classic or New Car to the 2nd Annual Car Show at Fiddlesticks Bistro~\n\nSunday\, September 9th\n\nThere will be a full bar indoors with prizes for the 1st\, 2nd & 3rd place rankings!
X-ALT-DESC;FMTTYPE=text/html:Bring your Classic or New Car to the 2nd Annual Car Show at Fiddlesticks Bistro~<br />\nSunday\, September 9th<br />\nThere will be a full bar indoors with prizes for the 1st\, 2nd &amp\; 3rd place rankings!
LOCATION:Fiddle Sticks Bistro 101 W. Evergreen Pkwy Suite #7 Elkhorn\, WI 53121
UID:e.2059.9174
SEQUENCE:3
DTSTAMP:20260422T021312Z
URL:https://business.elkhornchamber.com/events/details/2nd-annual-car-show-fiddle-sticks-bistro-9174
END:VEVENT

END:VCALENDAR
