BEGIN:VCALENDAR
VERSION:2.0
PRODID:-//ChamberMaster//Event Calendar 2.0//EN
METHOD:PUBLISH
X-PUBLISHED-TTL:P3D
REFRESH-INTERVAL:P3D
CALSCALE:GREGORIAN
BEGIN:VEVENT
DTSTART:20190501T160000Z
DTEND:20190501T180000Z
X-MICROSOFT-CDO-ALLDAYEVENT:FALSE
SUMMARY:25th Annual Salad Luncheon
DESCRIPTION:Annual Salad Luncheon at First Congregational UCC Church Wednesday\, May 1st from 11:00 am until 1:00pm. Dine in or Take out
X-ALT-DESC;FMTTYPE=text/html:Annual Salad Luncheon at First Congregational UCC Church Wednesday\, May 1st from 11:00 am until 1:00pm. Dine in or Take out
LOCATION:First Congregational UCC Church 76 S. Wisconsin Street Elkhorn\, WI 53121
UID:e.2059.10627
SEQUENCE:3
DTSTAMP:20260421T134639Z
URL:https://business.elkhornchamber.com/events/details/25th-annual-salad-luncheon-10627
END:VEVENT

END:VCALENDAR
