BEGIN:VCALENDAR
VERSION:2.0
PRODID:-//ChamberMaster//Event Calendar 2.0//EN
METHOD:PUBLISH
X-PUBLISHED-TTL:P3D
REFRESH-INTERVAL:P3D
CALSCALE:GREGORIAN
BEGIN:VEVENT
DTSTART:20150409T160000Z
DTEND:20150409T200000Z
X-MICROSOFT-CDO-ALLDAYEVENT:FALSE
SUMMARY:24th Annual Walworth County Job Fair
DESCRIPTION:Meet with multiple in one location at Gateway Technical College-Elkhorn Campus South Building. Free pre-screening is recommended and available through the Wisconsin Job Center or Gateway's Career and Employment Services. Pre-screening will provide you:\n\n	Professional feedback on your resume or assistance creating one.\n	Assistance on how to clearly articulate your qualifications.\n	Assistance preparing your first impression\n\nFor more information and a list of participating employers go to www.gtc.edu/jobfair
X-ALT-DESC;FMTTYPE=text/html:Meet with multiple in one location at Gateway Technical College-Elkhorn Campus South Building. Free pre-screening is recommended and available through the Wisconsin Job Center or Gateway&#39\;s Career and Employment Services. Pre-screening will provide you:\n<ul>\n	<li>Professional feedback on your resume or assistance creating one.</li>\n	<li>Assistance on how to clearly articulate your qualifications.</li>\n	<li>Assistance preparing your first impression</li>\n</ul>\nFor more information and a list of participating employers go to www.gtc.edu/jobfair
LOCATION:Gateway Technical College 400 County Road H\, Elkhorn
UID:e.2059.1148
SEQUENCE:3
DTSTAMP:20260425T003509Z
URL:https://business.elkhornchamber.com/events/details/24th-annual-walworth-county-job-fair-04-09-2015-1148
END:VEVENT

END:VCALENDAR
