BEGIN:VCALENDAR
VERSION:2.0
PRODID:-//ChamberMaster//Event Calendar 2.0//EN
METHOD:PUBLISH
X-PUBLISHED-TTL:P3D
REFRESH-INTERVAL:P3D
CALSCALE:GREGORIAN
BEGIN:VEVENT
DTSTART:20170503T160000Z
DTEND:20170503T180000Z
X-MICROSOFT-CDO-ALLDAYEVENT:FALSE
SUMMARY:23rd Annual Spring Salad Luncheon
DESCRIPTION:First Congregational United Church of Christ is hosting their 23rd Annual Spring Salad Luncheon. Eat in or Take out.\n\nHandicapped Accessible. Tickets are available from members\, church office\, or at the door.
X-ALT-DESC;FMTTYPE=text/html:First Congregational United Church of Christ is hosting their 23rd Annual Spring Salad Luncheon. Eat in or Take out.<br />\nHandicapped Accessible. Tickets are available from members\, church office\, or at the door.
LOCATION:First Congregational United Church of Christ 76 South Wisconsin St Elkhorn\, WI 53121
UID:e.2059.5004
SEQUENCE:3
DTSTAMP:20260423T074344Z
URL:https://business.elkhornchamber.com/events/details/23rd-annual-spring-salad-luncheon-5004
END:VEVENT

END:VCALENDAR
