BEGIN:VCALENDAR
VERSION:2.0
PRODID:-//ChamberMaster//Event Calendar 2.0//EN
METHOD:PUBLISH
X-PUBLISHED-TTL:P3D
REFRESH-INTERVAL:P3D
CALSCALE:GREGORIAN
BEGIN:VEVENT
DTSTART:20160504T160000Z
DTEND:20160504T180000Z
X-MICROSOFT-CDO-ALLDAYEVENT:FALSE
SUMMARY:22nd Annual Salad Luncheon
DESCRIPTION:22nd Annual Spring Salad Luncheon\n\nEat in or Carry Out\n\nSponsored by Women's Fellowship for High School Scholarships\n\nTickets available from members\, church office or at the Door.
X-ALT-DESC;FMTTYPE=text/html:22nd Annual Spring Salad Luncheon<br />\nEat in or Carry Out<br />\nSponsored by Women&#39\;s Fellowship for High School Scholarships<br />\nTickets available from members\, church office or at the Door.
LOCATION:First Congregational UCC Church 76 S. Wisconsin St Elkhorn WI
UID:e.2059.3436
SEQUENCE:3
DTSTAMP:20260424T012001Z
URL:https://business.elkhornchamber.com/events/details/22nd-annual-salad-luncheon-05-04-2016-3436
END:VEVENT

END:VCALENDAR
