BEGIN:VCALENDAR
VERSION:2.0
PRODID:-//ChamberMaster//Event Calendar 2.0//EN
METHOD:PUBLISH
X-PUBLISHED-TTL:P3D
REFRESH-INTERVAL:P3D
CALSCALE:GREGORIAN
BEGIN:VEVENT
DTSTART:20150418T223000Z
DTEND:20150419T020000Z
X-MICROSOFT-CDO-ALLDAYEVENT:FALSE
SUMMARY:2015 Academic Scholarship Fundraising Event
DESCRIPTION:Ride the wave and support the Purple and Gold Fund at the 2015 Academic Scholarship Fundraising Event at Evergreen Golf Club. Cocktails begin at 5:30pm with dinner at 7pm and silent and live auctions afterward. Entertainment by Bahama Bob.
X-ALT-DESC;FMTTYPE=text/html:Ride the wave and support the Purple and Gold Fund at the 2015 Academic Scholarship Fundraising Event at Evergreen Golf Club. Cocktails begin at 5:30pm with dinner at 7pm and silent and live auctions afterward. Entertainment by Bahama Bob.
LOCATION:Evergreen Golf Club N6246 Hwy 12\, Elkhorn
UID:e.2059.843
SEQUENCE:3
DTSTAMP:20260424T224755Z
URL:https://business.elkhornchamber.com/events/details/2015-academic-scholarship-fundraising-event-04-18-2015-843
END:VEVENT

END:VCALENDAR
