BEGIN:VCALENDAR
VERSION:2.0
PRODID:-//ChamberMaster//Event Calendar 2.0//EN
METHOD:PUBLISH
X-PUBLISHED-TTL:P3D
REFRESH-INTERVAL:P3D
CALSCALE:GREGORIAN
BEGIN:VEVENT
DTSTART:20141112T173000Z
DTEND:20141112T203000Z
X-MICROSOFT-CDO-ALLDAYEVENT:FALSE
SUMMARY:2014 WCEDA Annual Meeting
DESCRIPTION:The Walworth County Economic Development Alliance invites you to join them at Grand Geneva Resorts Maple Lawn Ballroom as they celebrate their accomplishments in 2014. WCEDA members is $30\; Non-members $35. Includes lunch.
X-ALT-DESC;FMTTYPE=text/html:The Walworth County Economic Development Alliance invites you to join them at Grand Geneva Resorts Maple Lawn Ballroom as they celebrate their accomplishments in 2014. WCEDA members is $30\; Non-members $35. Includes lunch.
LOCATION:Grand Geneva\, Maple Lawn Ballroom 7036 Grand Geneva Way\, Lake Geneva
UID:e.2059.775
SEQUENCE:3
DTSTAMP:20260425T102225Z
URL:https://business.elkhornchamber.com/events/details/2014-wceda-annual-meeting-11-12-2014-775
END:VEVENT

END:VCALENDAR
