BEGIN:VCALENDAR
VERSION:2.0
PRODID:-//ChamberMaster//Event Calendar 2.0//EN
METHOD:PUBLISH
X-PUBLISHED-TTL:P3D
REFRESH-INTERVAL:P3D
CALSCALE:GREGORIAN
BEGIN:VEVENT
DTSTART:20140920T210000Z
DTEND:20140920T230000Z
X-MICROSOFT-CDO-ALLDAYEVENT:FALSE
SUMMARY:1st United Methodist Church Chicken Dinner
DESCRIPTION:A meal in a box includes half a chicken\, cole slaw\, bbq beans and bread for $7.75. Call now for advance orders 262-723-2629. Walk ups will be served if food is available after advance orders.
X-ALT-DESC;FMTTYPE=text/html:A meal in a box includes half a chicken\, cole slaw\, bbq beans and bread for $7.75. Call now for advance orders 262-723-2629. Walk ups will be served if food is available after advance orders.
LOCATION:1st United Methodist Church 111 N. Broad St.\, Elkhorn
UID:e.2059.288
SEQUENCE:3
DTSTAMP:20260425T104336Z
URL:https://business.elkhornchamber.com/events/details/1st-united-methodist-church-chicken-dinner-09-20-2014-288
END:VEVENT

END:VCALENDAR
