BEGIN:VCALENDAR
VERSION:2.0
PRODID:-//ChamberMaster//Event Calendar 2.0//EN
METHOD:PUBLISH
X-PUBLISHED-TTL:P3D
REFRESH-INTERVAL:P3D
CALSCALE:GREGORIAN
BEGIN:VEVENT
DTSTART:20160530T140000Z
DTEND:20160530T140000Z
X-MICROSOFT-CDO-ALLDAYEVENT:FALSE
SUMMARY:1st Annual Memorial Day Scramble
DESCRIPTION:Evergreen Country Club is continuing its charitable efforts with the 1st Annual Memorial Day Scramble on Monday\, May 30th. Our mission is to raise money for the "Military Order of the Purple Heart" foundations to support their programs such as scholarships awards\, educational expenses\, Woman veteran programs\, and ROTC/JROTC Programs to just name a few.\n\nPlease help us to support the foundation by donating items for our prizes such as rounds of golf\, merchandise or a gift card. Please mail donations to Evergreen Country Club\, N6246 US Hwy 12\, Elkhorn\, WI\,53121.\n\nWithout fundraisers like this golf outing\, the Purple Heart Foundation would not be able to accomplish their mission. We ask that you support in any way possible either by donating\, participating in the day's events or even lend a hand and volunteer. Any support is greatly appreciated and accepted.
X-ALT-DESC;FMTTYPE=text/html:Evergreen Country Club is continuing its charitable efforts with the 1st Annual Memorial Day Scramble on Monday\, May 30th. Our mission is to raise money for the &quot\;Military Order of the Purple Heart&quot\; foundations to support their programs such as scholarships awards\, educational expenses\, Woman veteran programs\, and ROTC/JROTC Programs to just name a few.<br />\nPlease help us to support the foundation by donating items for our prizes such as rounds of golf\, merchandise or a gift card. Please mail donations to Evergreen Country Club\, N6246 US Hwy 12\, Elkhorn\, WI\,53121.<br />\nWithout fundraisers like this golf outing\, the Purple Heart Foundation would not be able to accomplish their mission. We ask that you support in any way possible either by donating\, participating in the day&#39\;s events or even lend a hand and volunteer. Any support is greatly appreciated and accepted.
LOCATION:Evergreen Country Club N6246 US Hwy 12 Elkhorn \, WI 53121
UID:e.2059.3455
SEQUENCE:3
DTSTAMP:20260424T030547Z
URL:https://business.elkhornchamber.com/events/details/1st-annual-memorial-day-scramble-05-30-2016-3455
END:VEVENT

END:VCALENDAR
