BEGIN:VCALENDAR
VERSION:2.0
PRODID:-//ChamberMaster//Event Calendar 2.0//EN
METHOD:PUBLISH
X-PUBLISHED-TTL:P3D
REFRESH-INTERVAL:P3D
CALSCALE:GREGORIAN
BEGIN:VEVENT
DTSTART:20170612T173000Z
DTEND:20170613T010000Z
X-MICROSOFT-CDO-ALLDAYEVENT:FALSE
SUMMARY:19th Annual Twin Oaks Golf Outing
DESCRIPTION:It's a day of sunshine and golfing--all to benefit Twin Oaks Shelter for the Homeless! This outing is a four-person charity scramble at Abbey Springs on Geneva Lake--lots of fun and prizes for a great cause. Twin Oaks provides more than basic housing: our team also practices in-depth case management to teach residents how to break the cycle of poverty. While at Twin Oaks\, residents learn about financial literacy\, landlord-tenant relationships\, and parenting skills. We also help address potential obstacles they may have to finding and keeping a job. We believe that housing is only one part of the solution for homeless families. Case management services are a crucial tool to help families achieve stable housing as they leave Twin Oaks.
X-ALT-DESC;FMTTYPE=text/html:It&#39\;s a day of sunshine and golfing--all to benefit Twin Oaks Shelter for the Homeless! This outing is a four-person charity scramble at Abbey Springs on Geneva Lake--lots of fun and prizes for a great cause. Twin Oaks provides more than basic housing: our team also practices in-depth case management to teach residents how to break the cycle of poverty. While at Twin Oaks\, residents learn about financial literacy\, landlord-tenant relationships\, and parenting skills. We also help address potential obstacles they may have to finding and keeping a job. We believe that housing is only one part of the solution for homeless families. Case management services are a crucial tool to help families achieve stable housing as they leave Twin Oaks.
LOCATION:Abbey Springs\, Fontana
UID:e.2059.4759
SEQUENCE:3
DTSTAMP:20260423T055547Z
URL:https://business.elkhornchamber.com/events/details/19th-annual-twin-oaks-golf-outing-4759
END:VEVENT

END:VCALENDAR
