BEGIN:VCALENDAR
VERSION:2.0
PRODID:-//ChamberMaster//Event Calendar 2.0//EN
METHOD:PUBLISH
X-PUBLISHED-TTL:P3D
REFRESH-INTERVAL:P3D
CALSCALE:GREGORIAN
BEGIN:VEVENT
DTSTART:20180927T233000Z
DTEND:20180928T010000Z
X-MICROSOFT-CDO-ALLDAYEVENT:FALSE
SUMMARY:1928: Elkhorn's Worst Year
DESCRIPTION:Claude Eames\, editor of the Elkhorn Independent in the Twenties\, called 1928 the worst year that Elkhorn had ever experienced. He was referring to a string of tragedies that plagued the city\;\n\ncar accidents\, freak disasters\, an airplane crash\, and even murders one still unsolved.\n\nCome hear about Elkhorn's worst year ever!
X-ALT-DESC;FMTTYPE=text/html:<p style="text-align:center"><span style="font-size:14px">Claude Eames\, editor of the Elkhorn Independent in the Twenties\, called 1928 the worst year that Elkhorn had ever experienced. He was referring to a string of tragedies that plagued the city\;<br />\ncar accidents\, freak disasters\, an airplane crash\, and even murders&hellip\;one still unsolved.</span></p>\n\n<p style="text-align:center"><span style="font-size:14px">Come hear about Elkhorn&#39\;s&nbsp\;worst year ever!</span></p>\n
LOCATION:Matheson Memorial Library
UID:e.2059.9170
SEQUENCE:3
DTSTAMP:20260422T015648Z
URL:https://business.elkhornchamber.com/events/details/1928-elkhorn-s-worst-year-9170
END:VEVENT

END:VCALENDAR
