BEGIN:VCALENDAR
VERSION:2.0
PRODID:-//ChamberMaster//Event Calendar 2.0//EN
METHOD:PUBLISH
X-PUBLISHED-TTL:P3D
REFRESH-INTERVAL:P3D
CALSCALE:GREGORIAN
BEGIN:VEVENT
DTSTART;VALUE=DATE:20150925
DTEND;VALUE=DATE:20150926
TRANSP:TRANSPARENT
X-MICROSOFT-CDO-ALLDAYEVENT:TRUE
SUMMARY:18th Annual Golf Tournament
DESCRIPTION:East Troy Area Chamber of Commerce is hosting their 18th Annual Golf Tournament. 4 person scramble\, 18 holes of golf with a cart\, prizes and dinner included. Can't make the tournament? Still consider offereing yourself or business as a Hole Sponsor for a slight fee.
X-ALT-DESC;FMTTYPE=text/html:East Troy Area Chamber of Commerce is hosting their 18th Annual Golf Tournament. 4 person scramble\, 18 holes of golf with a cart\, prizes and dinner included. Can&#39\;t make the tournament? Still consider offereing yourself or business as a Hole Sponsor for a slight fee.
LOCATION:Alpine Valley Resort W2501 County Road D\, East Troy WI
UID:e.2059.1681
SEQUENCE:3
DTSTAMP:20260424T141655Z
URL:https://business.elkhornchamber.com/events/details/18th-annual-golf-tournament-09-25-2015-1681
END:VEVENT

END:VCALENDAR
