BEGIN:VCALENDAR
VERSION:2.0
PRODID:-//ChamberMaster//Event Calendar 2.0//EN
METHOD:PUBLISH
X-PUBLISHED-TTL:P3D
REFRESH-INTERVAL:P3D
CALSCALE:GREGORIAN
BEGIN:VEVENT
DTSTART;VALUE=DATE:20150720
DTEND;VALUE=DATE:20150721
TRANSP:TRANSPARENT
X-MICROSOFT-CDO-ALLDAYEVENT:TRUE
SUMMARY:17th Annual Twin Oaks Golf Outing
DESCRIPTION:Tee up against homelessness and support Walworth County's only 24-hour homeless shelter. Twin Oaks Shelter for the Homeless helped 151 individuals in 2014\, nearly half of them children. The shelter provides case management\, life skills workshops and a safe place to stay while participants move forward on their pathways out of poverty. Join us for a fantastic day for a great cause!
X-ALT-DESC;FMTTYPE=text/html:Tee up against homelessness and support Walworth County&#39\;s only 24-hour homeless shelter. Twin Oaks Shelter for the Homeless helped 151 individuals in 2014\, nearly half of them children. The shelter provides case management\, life skills workshops and a safe place to stay while participants move forward on their pathways out of poverty. Join us for a fantastic day for a great cause!
LOCATION:Abbey Springs Golf Course\, Fontana
UID:e.2059.1580
SEQUENCE:3
DTSTAMP:20260424T192546Z
URL:https://business.elkhornchamber.com/events/details/17th-annual-twin-oaks-golf-outing-07-20-2015-1580
END:VEVENT

END:VCALENDAR
