BEGIN:VCALENDAR
VERSION:2.0
PRODID:-//ChamberMaster//Event Calendar 2.0//EN
METHOD:PUBLISH
X-PUBLISHED-TTL:P3D
REFRESH-INTERVAL:P3D
CALSCALE:GREGORIAN
BEGIN:VEVENT
DTSTART;VALUE=DATE:20170831
DTEND;VALUE=DATE:20170901
TRANSP:TRANSPARENT
X-MICROSOFT-CDO-ALLDAYEVENT:TRUE
SUMMARY:168th Walworth County Fair
DESCRIPTION:The Walworth County Fair\, one of the largest county fairs in the Midwest\, attracts thousands of people to Elkhorn each summer during the six days of the fair over Labor Day weekend. It's family fun at its best complete with animal judging\, 4-H exhibits\, big name entertainment\, harness racing\, tractor pulls\, carnival games and rides\, and plenty of great fair food. You don't want to miss the 168th Walworth County Fair!
X-ALT-DESC;FMTTYPE=text/html:The Walworth County Fair\, one of the largest county fairs in the Midwest\, attracts thousands of people to Elkhorn each summer during the six days of the fair over Labor Day weekend. It&#39\;s family fun at its best complete with animal judging\, 4-H exhibits\, big name entertainment\, harness racing\, tractor pulls\, carnival games and rides\, and plenty of great fair food. You don&#39\;t want to miss the 168th Walworth County Fair!
LOCATION:Walworth County Fairgrounds 411 E. Court St.\, Elkhorn
UID:e.2059.5043
SEQUENCE:3
DTSTAMP:20260422T233033Z
URL:https://business.elkhornchamber.com/events/details/168th-walworth-county-fair-08-31-2017-5043
END:VEVENT

END:VCALENDAR
