BEGIN:VCALENDAR
VERSION:2.0
PRODID:-//ChamberMaster//Event Calendar 2.0//EN
METHOD:PUBLISH
X-PUBLISHED-TTL:P3D
REFRESH-INTERVAL:P3D
CALSCALE:GREGORIAN
BEGIN:VEVENT
DTSTART:20140827T150000Z
DTEND:20140828T030000Z
X-MICROSOFT-CDO-ALLDAYEVENT:FALSE
SUMMARY:165th Walworth County Fair
DESCRIPTION:The Walworth County Fair\, one of the largest county fairs in the Midwest\, attracts thousands of people to Elkhorn each summer during the six days of the fair over Labor Day weekend. It?s family fun at its best complete with animal judging\, 4-H exhibits\, big name entertainment\, harness racing\, tractor pulls\, carnival games and rides\, and plenty of great fair food. You don?t want to miss the 165thWalworth County Fair August 27ththrough September 1st!
X-ALT-DESC;FMTTYPE=text/html:The Walworth County Fair\, one of the largest county fairs in the Midwest\, attracts thousands of people to Elkhorn each summer during the six days of the fair over Labor Day weekend. It?s family fun at its best complete with animal judging\, 4-H exhibits\, big name entertainment\, harness racing\, tractor pulls\, carnival games and rides\, and plenty of great fair food. You don?t want to miss the 165thWalworth County Fair August 27ththrough September 1st!
LOCATION:Walworth County Fairgrounds 411 E. Court St.\, Elkhorn
UID:e.2059.125
SEQUENCE:3
DTSTAMP:20260425T133737Z
URL:https://business.elkhornchamber.com/events/details/165th-walworth-county-fair-08-27-2014-125
END:VEVENT

END:VCALENDAR
