BEGIN:VCALENDAR
VERSION:2.0
PRODID:-//ChamberMaster//Event Calendar 2.0//EN
METHOD:PUBLISH
X-PUBLISHED-TTL:P3D
REFRESH-INTERVAL:P3D
CALSCALE:GREGORIAN
BEGIN:VEVENT
DTSTART:20160714T150000Z
DTEND:20160714T190000Z
X-MICROSOFT-CDO-ALLDAYEVENT:FALSE
SUMMARY:125th Alexander Lumber Anniversary
DESCRIPTION:125 Years of Quality and Service~\n\n HELP US CELEBRATE!\n\nJoin us for food\, fun\, great deals\, and to view our latest products and services.\n\nAlexander Lumber Co. was founded by John Alexander in November 1891 in Aurora\, Illinois. Mr. Alexander was a Scottish immigrant whose families roots in the United Sates started in Wausau\, Wi.\n\nMore than just a Lumberyard.\n\nA trusted partner that helps build communities. We're your go-to resource for new home and renovation projects-remodeling a kitchen\, adding a deck\, replacing windows and doors\, upgrading a bathroom\, refinishing a basement. You name it- we can help you get it done. Alexander Lumber specialists are here with expert advice\, unmatched knowledge and creative suggestions - from the beginning to the end of your project.\n\nElkhorn Location History. The Elkhorn location was acquired in 2008 to continue the tradition as a local lumberyard in the community.
X-ALT-DESC;FMTTYPE=text/html:125 Years of Quality and Service~<br />\n&nbsp\;<strong>HELP US CELEBRATE!</strong><br />\nJoin us for food\, fun\, great deals\, and to view our latest products and services.<br />\nAlexander Lumber Co. was founded by John Alexander in November 1891 in Aurora\, Illinois. Mr. Alexander was a Scottish immigrant whose families roots in the United Sates started in Wausau\, Wi.<br />\nMore than just a Lumberyard.<br />\nA trusted partner that helps build communities. We&#39\;re your go-to resource for new home and renovation projects-remodeling a kitchen\, adding a deck\, replacing windows and doors\, upgrading a bathroom\, refinishing a basement. You name it- we can help you get it done. Alexander Lumber specialists are here with expert advice\, unmatched knowledge and creative suggestions - from the beginning to the end of your project.<br />\nElkhorn Location History. The Elkhorn location was acquired in 2008 to continue the tradition as a local lumberyard in the community.<br />\n&nbsp\;
LOCATION:Alexander Lumber 99 E. Centralia Elkhorn\, WI 53121
UID:e.2059.4415
SEQUENCE:3
DTSTAMP:20260423T220750Z
URL:https://business.elkhornchamber.com/events/details/125th-alexander-lumber-anniversary-07-14-2016-4415
END:VEVENT

END:VCALENDAR
