BEGIN:VCALENDAR
VERSION:2.0
PRODID:-//ChamberMaster//Event Calendar 2.0//EN
METHOD:PUBLISH
X-PUBLISHED-TTL:P3D
REFRESH-INTERVAL:P3D
CALSCALE:GREGORIAN
BEGIN:VEVENT
DTSTART:20170520T170000Z
DTEND:20170520T200000Z
X-MICROSOFT-CDO-ALLDAYEVENT:FALSE
SUMMARY:11th Annual Elkhorn Block Party
DESCRIPTION:Educators Credit Union is sponsoring a block party for Elkhorn and the local communities. Due to the continuing success of the block party we have decided to hold one again this year. We will have fun and educational activities for families at little or no charge. Any proceeds are being donated to the Elkhorn Area High School to help achieve financial literacy. This is a great opportunity to get your business out in the community! We are looking for local businesses to sponsor a booth. This year's block party is a carnival theme. Here are some of the booths and activities that Educators Credit Union will be sponsoring:\n\n \n\n	Identification cards for Children and Bike registration by Walworth County Police \n	Smoke House provided by Walworth County Firefighters Association\n	Face painting  \n	Cookie decorating  \n	Lake 96.1 remote broadcast\n	Coloring contest with prizes\n	Blow-up Fun House \n	Educators Credit Union's trailer with food and soft drinks (Proceeds go to EAHS) \n	DUNK TANK fundraiser for Elkhorn Area High School\n	Sensitive document shredding\, open for public use\, provided by Iron Mountain\n	Identity theft\, mortgages\, investment service\, Auto and Lease booths\n	Raffle of local products and services (Proceeds go to EAHS)\n\n \n\nIf your business is interested in a booth\, please fill out the attached form with the information about your booth. Any business participating will receive FREE advertising on t-shirts\, radio and newspaper ads. Educators Credit Union is really looking forward to giving back to the local community. We feel this would be a great family day\, and a way to get more involved with the people of Elkhorn in order to educate and advise. If you plan on attending or working\, please let Kym Parrilli\, 262-321-4447\, Amanda Soto\, 262-321-2412\, or Erica Messick\, 262-884-6695\, know and return the attached form no later than 04/15/2017. Fax: 262-743-1833 Address: 611 E Geneva St Elkhorn\, WI 53121.
X-ALT-DESC;FMTTYPE=text/html:<span style="font-family:comic sans ms\;">Educators Credit Union is sponsoring a block party for Elkhorn and the local communities. Due to the continuing success of the block party we have decided to hold one again this year. We will have fun and educational activities for families at little or no charge. Any proceeds are being donated to the Elkhorn Area High School to help achieve financial literacy. This is a great opportunity to get your business out in the community! We are looking for local businesses to sponsor a booth. This year&rsquo\;s block party is a carnival theme. Here are some of the booths and activities that Educators Credit Union will be sponsoring:</span><br />\n&nbsp\;\n<ul>\n	<li><span style="font-family:comic sans ms\;">Identification cards for Children and Bike registration by Walworth County Police </span></li>\n	<li><span style="font-family:comic sans ms\;">Smoke House provided by Walworth County Firefighters Association</span></li>\n	<li><span style="font-family:comic sans ms\;">Face painting &nbsp\;</span></li>\n	<li><span style="font-family:comic sans ms\;">Cookie decorating &nbsp\;</span></li>\n	<li><span style="font-family:comic sans ms\;">Lake 96.1 remote broadcast</span></li>\n	<li><span style="font-family:comic sans ms\;">Coloring contest with prizes</span></li>\n	<li><span style="font-family:comic sans ms\;">Blow-up Fun House </span></li>\n	<li><span style="font-family:comic sans ms\;">Educators Credit Union&rsquo\;s trailer with food and soft drinks (Proceeds go to EAHS) </span></li>\n	<li><span style="font-family:comic sans ms\;">DUNK TANK fundraiser for Elkhorn Area High School</span></li>\n	<li><span style="font-family:comic sans ms\;">Sensitive document shredding\, open for public use\, provided by Iron Mountain</span></li>\n	<li><span style="font-family:comic sans ms\;">Identity theft\, mortgages\, investment service\, Auto and Lease booths</span></li>\n	<li><span style="font-family:comic sans ms\;">Raffle of local products and services (Proceeds go to EAHS)</span></li>\n</ul>\n&nbsp\;<br />\n<span style="font-family:comic sans ms\;">If your business is interested in a booth\, please fill out the attached form with the information about your booth. Any business participating will receive FREE advertising on t-shirts\, radio and newspaper ads. Educators Credit Union is really looking forward to giving back to the local community. We feel this would be a great family day\, and a way to get more involved with the people of Elkhorn in order to educate and advise. If you plan on attending or working\, please let Kym Parrilli\, 262-321-4447\, Amanda Soto\, 262-321-2412\, or Erica Messick\, 262-884-6695\, know and return the attached form no later than <strong><u>04/15/2017</u></strong>. Fax: 262-743-1833 Address: 611 E Geneva St Elkhorn\, WI 53121. </span>
LOCATION:Elkhorn Business Centre Parking Lot
UID:e.2059.3433
SEQUENCE:3
DTSTAMP:20260423T060759Z
URL:https://business.elkhornchamber.com/events/details/11th-annual-elkhorn-block-party-3433
END:VEVENT

END:VCALENDAR
