BEGIN:VCALENDAR
VERSION:2.0
PRODID:-//ChamberMaster//Event Calendar 2.0//EN
METHOD:PUBLISH
X-PUBLISHED-TTL:P3D
REFRESH-INTERVAL:P3D
CALSCALE:GREGORIAN
BEGIN:VEVENT
DTSTART:20181025T220000Z
DTEND:20181026T000000Z
X-MICROSOFT-CDO-ALLDAYEVENT:FALSE
SUMMARY:10 Year Anniversary~Animal Clinic of Elkhorn
DESCRIPTION:Join us in Celebration of our 10 Year Anniversary at Animal Clinic of Elkhorn Open House. There will be a special demontation form Walworth COunty Sheriff's K-9 Unit\, food\, vendors\, drawings and giveaways!
X-ALT-DESC;FMTTYPE=text/html:Join us in Celebration of our 10 Year Anniversary at Animal Clinic of Elkhorn Open House. There will be a special demontation form Walworth COunty Sheriff&#39\;s K-9 Unit\, food\, vendors\, drawings and giveaways!
LOCATION:Animal Clinic of Elkhorn 1950 N Wisconsin St #20 Elkhorn\,WI
UID:e.2059.9528
SEQUENCE:3
DTSTAMP:20260422T002605Z
URL:https://business.elkhornchamber.com/events/details/10-year-anniversary-animal-clinic-of-elkhorn-9528
END:VEVENT

END:VCALENDAR
